BEGIN:VCALENDAR
VERSION:2.0
PRODID:-//Staunton-on-Wye and District Parish Council//Meeting Calendar//EN
CALSCALE:GREGORIAN
METHOD:PUBLISH
BEGIN:VEVENT
UID:70455-20250512@stauntononwye-pc.gov.uk
DTSTAMP:20260421T083232Z
DTSTART;VALUE=DATE:20250512
DTEND;VALUE=DATE:20250513
SUMMARY:Annual Parish Meeting &#8211\\; 12 May 2025
DESCRIPTION:Annual Parish Meeting\nView details: https://stauntononwye-pc.gov.uk/meetings/annual-parish-meeting-12-may-2025/
URL:https://stauntononwye-pc.gov.uk/meetings/annual-parish-meeting-12-may-2025/
END:VEVENT
END:VCALENDAR
