BEGIN:VCALENDAR
VERSION:2.0
PRODID:-//Staunton-on-Wye and District Parish Council//Meeting Calendar//EN
CALSCALE:GREGORIAN
METHOD:PUBLISH
BEGIN:VEVENT
UID:70459-20210101@stauntononwye-pc.gov.uk
DTSTAMP:20260421T081916Z
DTSTART;VALUE=DATE:20210101
DTEND;VALUE=DATE:20210102
SUMMARY:Full Council Meetings &#8211\\; 2021
DESCRIPTION:Full Council Meeting\nView details: https://stauntononwye-pc.gov.uk/meetings/full-council-meetings-2021/
URL:https://stauntononwye-pc.gov.uk/meetings/full-council-meetings-2021/
END:VEVENT
END:VCALENDAR
