BEGIN:VCALENDAR
VERSION:2.0
PRODID:-//Staunton-on-Wye and District Parish Council//Meeting Calendar//EN
CALSCALE:GREGORIAN
METHOD:PUBLISH
BEGIN:VEVENT
UID:70571-20250908@stauntononwye-pc.gov.uk
DTSTAMP:20260422T083952Z
DTSTART;VALUE=DATE:20250908
DTEND;VALUE=DATE:20250909
SUMMARY:Parish Council\\, 8th September 2025
DESCRIPTION:Full Council Meeting\nView details: https://stauntononwye-pc.gov.uk/meetings/meeting-name-here/
URL:https://stauntononwye-pc.gov.uk/meetings/meeting-name-here/
END:VEVENT
END:VCALENDAR
