BEGIN:VCALENDAR
VERSION:2.0
PRODID:-//Staunton-on-Wye and District Parish Council//Meeting Calendar//EN
CALSCALE:GREGORIAN
METHOD:PUBLISH
BEGIN:VEVENT
UID:70627-20150901@stauntononwye-pc.gov.uk
DTSTAMP:20260422T083651Z
DTSTART;VALUE=DATE:20150901
DTEND;VALUE=DATE:20150902
SUMMARY:Minutes 2015-2023
DESCRIPTION:Full Council Meeting\nView details: https://stauntononwye-pc.gov.uk/meetings/minutes-2015-2023/
URL:https://stauntononwye-pc.gov.uk/meetings/minutes-2015-2023/
END:VEVENT
END:VCALENDAR
